BEGIN:VCALENDAR
VERSION:2.0
PRODID:-//Community of Practice - ECPv6.15.20//NONSGML v1.0//EN
CALSCALE:GREGORIAN
METHOD:PUBLISH
X-WR-CALNAME:Community of Practice
X-ORIGINAL-URL:https://gathrivestogether.org
X-WR-CALDESC:Events for Community of Practice
REFRESH-INTERVAL;VALUE=DURATION:PT1H
X-Robots-Tag:noindex
X-PUBLISHED-TTL:PT1H
BEGIN:VTIMEZONE
TZID:UTC
BEGIN:STANDARD
TZOFFSETFROM:+0000
TZOFFSETTO:+0000
TZNAME:UTC
DTSTART:20230101T000000
END:STANDARD
END:VTIMEZONE
BEGIN:VEVENT
DTSTART;TZID=UTC:20240925T080000
DTEND;TZID=UTC:20240926T150000
DTSTAMP:20260425T132840
CREATED:20240912T153034Z
LAST-MODIFIED:20240912T155145Z
UID:183-1727251200-1727362800@gathrivestogether.org
SUMMARY:Georgia Statewide Community of Practice Meeting
DESCRIPTION:Main components of this Community of Practice Meeting: \n\nWorkshops on Systems Thinking\, Strategic Partnerships\, and Sustainability\nOpportunities to network with others working to impact health inequities across Georgia\nPromising Practices Panel on Strategic Partnerships\nSpecial Interest Group Meetings\nUpdates on the Statewide Health Equity Initiative and much more\n\nVisit https://app.glueup.com/org/gacommunityofpractice/ for event details.
URL:https://gathrivestogether.org/event/community-of-practice-meeting/
LOCATION:University of Georgia Center for Continuing Education & Hotel\, 1197 South Lumpkin Street\, Athens\, GA\, United States
ATTACH;FMTTYPE=image/jpeg:https://gathrivestogether.org/wp-content/uploads/2024/09/AdobeStock_568803377-scaled-e1726156224650.jpeg
ORGANIZER;CN="Georgia Statewide Community of Practice":MAILTO:info@gathrivestogether.org
END:VEVENT
END:VCALENDAR