BEGIN:VCALENDAR
VERSION:2.0
PRODID:-//Community of Practice - ECPv6.15.20//NONSGML v1.0//EN
CALSCALE:GREGORIAN
METHOD:PUBLISH
X-WR-CALNAME:Community of Practice
X-ORIGINAL-URL:https://gathrivestogether.org
X-WR-CALDESC:Events for Community of Practice
REFRESH-INTERVAL;VALUE=DURATION:PT1H
X-Robots-Tag:noindex
X-PUBLISHED-TTL:PT1H
BEGIN:VTIMEZONE
TZID:UTC
BEGIN:STANDARD
TZOFFSETFROM:+0000
TZOFFSETTO:+0000
TZNAME:UTC
DTSTART:20230101T000000
END:STANDARD
END:VTIMEZONE
BEGIN:VEVENT
DTSTART;TZID=UTC:20250930T120000
DTEND;TZID=UTC:20250930T140000
DTSTAMP:20260423T171407
CREATED:20250902T135355Z
LAST-MODIFIED:20250902T135356Z
UID:593-1759233600-1759240800@gathrivestogether.org
SUMMARY:Community of Practice Virtual Meeting
DESCRIPTION:Please join us for our September Georgia Thrives Together Community of Practice Meeting. \nCheck out the Glue Up Page to register and get more information!
URL:https://gathrivestogether.org/event/community-of-practice-virtual-meeting-3/
CATEGORIES:CoP Meetings,CoP Virtual Meetings
ATTACH;FMTTYPE=image/jpeg:https://gathrivestogether.org/wp-content/uploads/2024/10/young-white-woman-on-video-call-or-meeting-e1729257280517.jpg
ORGANIZER;CN="Georgia Statewide Community of Practice":MAILTO:info@gathrivestogether.org
END:VEVENT
BEGIN:VEVENT
DTSTART;TZID=UTC:20250625T120000
DTEND;TZID=UTC:20250626T160000
DTSTAMP:20260423T171407
CREATED:20250428T160712Z
LAST-MODIFIED:20250513T130538Z
UID:540-1750852800-1750953600@gathrivestogether.org
SUMMARY:Community of Practice In-Person Meeting
DESCRIPTION:REGISTRATION NOW OPEN! \nPlease join us for networking and learning together in Columbus\, GA at the Columbus Convention and Trade Center. During this day and a half meeting\, attendees will enjoy interactive plenaries\, panels\, breakout sessions\, and networking opportunities centered around advancing health and well-being for Georgians.\nHotel Information & Link: \nA room block has been set aside at the \nColumbus Marriott \n800 Front Ave \nColumbus\, GA \nColumbus Marriott for $174.00 per night \nLast Day to Book: Tuesday\, May 27\, 2025 \nOn-site parking at hotel is $15.00 per Vehicle per Night. \nDRAFT AGENDA NOW AVAILABLE \n 
URL:https://gathrivestogether.org/event/community-of-practice-in-person-meeting/
LOCATION:Columbus Georgia Convention and Trade Center\, 801 Front Ave\, Columbus\, GA\, 31901\, United States
CATEGORIES:CoP Meetings
ORGANIZER;CN="Georgia Statewide Community of Practice":MAILTO:info@gathrivestogether.org
END:VEVENT
BEGIN:VEVENT
DTSTART;TZID=UTC:20241210T120000
DTEND;TZID=UTC:20241210T140000
DTSTAMP:20260423T171407
CREATED:20240913T155214Z
LAST-MODIFIED:20241202T162324Z
UID:231-1733832000-1733839200@gathrivestogether.org
SUMMARY:Community of Practice Virtual Meeting
DESCRIPTION:This Community of Practice Meeting will focus on an Introduction to Vital Conditions and the Vital Conditions Framework. \nBy the end of this session\, attendees will: \n\nUnderstand the Vital Conditions Framework;\nUnderstand How to Apply Vital Conditions to Work;\nConnect and Network with others working in GA; and\nHear About Engagement Opportunities with Georgia’s Equity Work.
URL:https://gathrivestogether.org/event/community-of-practice-virtual-meeting/
CATEGORIES:CoP Meetings,CoP Virtual Meetings
ATTACH;FMTTYPE=image/jpeg:https://gathrivestogether.org/wp-content/uploads/2024/09/Young-white-woman-taking-notes-from-computer-screen-e1726242725212.jpeg
ORGANIZER;CN="Georgia Statewide Community of Practice":MAILTO:info@gathrivestogether.org
END:VEVENT
END:VCALENDAR