BEGIN:VCALENDAR
VERSION:2.0
PRODID:-//Community of Practice - ECPv6.15.20//NONSGML v1.0//EN
CALSCALE:GREGORIAN
METHOD:PUBLISH
X-WR-CALNAME:Community of Practice
X-ORIGINAL-URL:https://gathrivestogether.org
X-WR-CALDESC:Events for Community of Practice
REFRESH-INTERVAL;VALUE=DURATION:PT1H
X-Robots-Tag:noindex
X-PUBLISHED-TTL:PT1H
BEGIN:VTIMEZONE
TZID:UTC
BEGIN:STANDARD
TZOFFSETFROM:+0000
TZOFFSETTO:+0000
TZNAME:UTC
DTSTART:20250101T000000
END:STANDARD
END:VTIMEZONE
BEGIN:VEVENT
DTSTART;TZID=UTC:20260310T124500
DTEND;TZID=UTC:20260310T140000
DTSTAMP:20260423T170628
CREATED:20240913T160343Z
LAST-MODIFIED:20260227T160414Z
UID:250-1773146700-1773151200@gathrivestogether.org
SUMMARY:Community of Practice Virtual Meeting: Disruptive Innovation a Promising Practices Panel
DESCRIPTION:Join us virtually on March 10\, 2026\, for an inspiring panel moderated by Michelle Marcus during the Georgia Thrives Together’s March Meeting titled: “Disruptive Innovation: Using Good Trouble to Transform Systems for Community Wellbeing.” \nDisruptive innovation for community wellbeing encompasses practices\, systemic changes\, technologies\, or business models which serve unmet social needs\, meet those needs more efficiently and effectively than predominant practices and policies\, and which could be effective at a larger scale although they are initially prevented from scaling up due to regulatory or fiscal limitations. Despite their potential to solve persistent social problems\, disruptive innovations often fail to attract investment because they challenge conventional business models\, beliefs\, power structures\, and organizational practices. The Disruptive Innovation panel will allow attendees to hear from professionals who are exploring new approaches to longstanding problems\, redefining funding strategies\, and developing innovative ways to show and communicate impact. \nPanelists: Odetta MacLeish-White\, AB\, JD\, LLM Business and Fund Development Director of Bay Area Regional Health Inequities Initiative; Tony Price\, DrPH\, MS\, Price Point Consulting LLC; and Belisa Urbina\, Chief Executive Officer\, Ser Familia. \nREGISTER TODAY!
URL:https://gathrivestogether.org/event/community-of-practice-virtual-meeting-5/
ATTACH;FMTTYPE=image/jpeg:https://gathrivestogether.org/wp-content/uploads/2024/09/Young-white-woman-taking-notes-from-computer-screen-e1726242725212.jpeg
ORGANIZER;CN="Georgia Statewide Community of Practice":MAILTO:info@gathrivestogether.org
END:VEVENT
END:VCALENDAR