BEGIN:VCALENDAR
VERSION:2.0
PRODID:-//Community of Practice - ECPv6.15.20//NONSGML v1.0//EN
CALSCALE:GREGORIAN
METHOD:PUBLISH
X-WR-CALNAME:Community of Practice
X-ORIGINAL-URL:https://gathrivestogether.org
X-WR-CALDESC:Events for Community of Practice
REFRESH-INTERVAL;VALUE=DURATION:PT1H
X-Robots-Tag:noindex
X-PUBLISHED-TTL:PT1H
BEGIN:VTIMEZONE
TZID:UTC
BEGIN:STANDARD
TZOFFSETFROM:+0000
TZOFFSETTO:+0000
TZNAME:UTC
DTSTART:20240101T000000
END:STANDARD
END:VTIMEZONE
BEGIN:VEVENT
DTSTART;TZID=UTC:20250226T130000
DTEND;TZID=UTC:20250226T143000
DTSTAMP:20260426T011811
CREATED:20250131T162837Z
LAST-MODIFIED:20250224T134000Z
UID:467-1740574800-1740580200@gathrivestogether.org
SUMMARY:Expanding Your Scope To Address Vital Conditions: A Promising Practices Panel
DESCRIPTION:During this interactive virtual panel\, we will discuss transitioning to addressing vital conditions through conversations with our local\, statewide\, and national panelists. These panelists will share their progress and lessons learned in expanding their scope beyond addressing urgent needs to working more broadly on vital conditions for health and well-being. We end our panels by asking attendees to join our discussion by sharing their questions\, experiences\, and lessons learned.  \nJoin us on Wednesday\, February 26th from 1:00 – 2:30 pm. \nOur panelists include: \n\nGina Hemenway\, Executive Director\, Community Health\, Mercy Health Cincinnati\nMary Ayala\, Director\, Multifamily Outreach\, Enterprise Community Partners\nMelissa Line\, LMSW\, Executive Director\, Community Helping Place
URL:https://gathrivestogether.org/event/expanding-your-scope-to-address-vital-conditions-a-promising-practices-panel/
CATEGORIES:Promising Practices Panel
ATTACH;FMTTYPE=image/jpeg:https://gathrivestogether.org/wp-content/uploads/2024/09/AdobeStock_869113592-scaled-e1730732582979.jpeg
ORGANIZER;CN="Georgia Statewide Community of Practice":MAILTO:info@gathrivestogether.org
END:VEVENT
END:VCALENDAR