BEGIN:VCALENDAR
VERSION:2.0
PRODID:-//Community of Practice - ECPv6.15.20//NONSGML v1.0//EN
CALSCALE:GREGORIAN
METHOD:PUBLISH
X-WR-CALNAME:Community of Practice
X-ORIGINAL-URL:https://gathrivestogether.org
X-WR-CALDESC:Events for Community of Practice
REFRESH-INTERVAL;VALUE=DURATION:PT1H
X-Robots-Tag:noindex
X-PUBLISHED-TTL:PT1H
BEGIN:VTIMEZONE
TZID:UTC
BEGIN:STANDARD
TZOFFSETFROM:+0000
TZOFFSETTO:+0000
TZNAME:UTC
DTSTART:20240101T000000
END:STANDARD
END:VTIMEZONE
BEGIN:VEVENT
DTSTART;TZID=UTC:20250121T130000
DTEND;TZID=UTC:20250121T140000
DTSTAMP:20260426T043016
CREATED:20250114T182938Z
LAST-MODIFIED:20250114T183500Z
UID:448-1737464400-1737468000@gathrivestogether.org
SUMMARY:Health Equity Policy & Practice Innovations in Georgia
DESCRIPTION:The Health Equity Policy and Practice Innovations in Georgia Special Interest Group (Policy & Practice SIG) is a subgroup of the Community of Practice. This group is an open group\, with new attendees able to join at every meeting. Members of this subgroup are focused on working together to understand\, design\, and/or shape policy or programmatic solutions with a particular emphasis on innovation and an equity mindset. \nThe Policy & Practice SIG meets monthly.
URL:https://gathrivestogether.org/event/health-equity-policy-practice-innovations-in-georgia/
CATEGORIES:Policy and Practice,Special Interest Group
ATTACH;FMTTYPE=image/jpeg:https://gathrivestogether.org/wp-content/uploads/2024/10/Business-team-meeting-diverse-group-of-people-working-together-scaled-e1731950018405.jpg
ORGANIZER;CN="Georgia Statewide Community of Practice":MAILTO:info@gathrivestogether.org
END:VEVENT
END:VCALENDAR